BEGIN:VCALENDAR
VERSION:2.0
PRODID:-//Calton Community Council - ECPv6.15.15//NONSGML v1.0//EN
CALSCALE:GREGORIAN
METHOD:PUBLISH
X-ORIGINAL-URL:https://calton-community-council.scot
X-WR-CALDESC:Events for Calton Community Council
REFRESH-INTERVAL;VALUE=DURATION:PT1H
X-Robots-Tag:noindex
X-PUBLISHED-TTL:PT1H
BEGIN:VTIMEZONE
TZID:Europe/London
BEGIN:DAYLIGHT
TZOFFSETFROM:+0000
TZOFFSETTO:+0100
TZNAME:BST
DTSTART:20240331T010000
END:DAYLIGHT
BEGIN:STANDARD
TZOFFSETFROM:+0100
TZOFFSETTO:+0000
TZNAME:GMT
DTSTART:20241027T010000
END:STANDARD
BEGIN:DAYLIGHT
TZOFFSETFROM:+0000
TZOFFSETTO:+0100
TZNAME:BST
DTSTART:20250330T010000
END:DAYLIGHT
BEGIN:STANDARD
TZOFFSETFROM:+0100
TZOFFSETTO:+0000
TZNAME:GMT
DTSTART:20251026T010000
END:STANDARD
BEGIN:DAYLIGHT
TZOFFSETFROM:+0000
TZOFFSETTO:+0100
TZNAME:BST
DTSTART:20260329T010000
END:DAYLIGHT
BEGIN:STANDARD
TZOFFSETFROM:+0100
TZOFFSETTO:+0000
TZNAME:GMT
DTSTART:20261025T010000
END:STANDARD
END:VTIMEZONE
BEGIN:VEVENT
DTSTART;TZID=Europe/London:20251001T080000
DTEND;TZID=Europe/London:20251007T170000
DTSTAMP:20260421T155710
CREATED:20250512T145700Z
LAST-MODIFIED:20250512T145700Z
UID:2322-1759305600-1759856400@calton-community-council.scot
SUMMARY:AJ Bell Great Scottish Run
DESCRIPTION:The Great Scottish Run is returning to Glasgow in October this year.  Glasgow Green\, Bellahouston Park and Pollok Park will all see parts of the run passing through.  Expect high volumes of people and access to the sites at the following times: \n\nBellahouston Park – Sunday 5 October 2025 from 4:00am until 4:00pm\n\n(access 4:00am – vacate 5:00pm)\n\n\nPollok Country Park – Sunday 5 October 2025 from 4:00am until 4:00pm\n\n(access 4:00am – vacate 5:00pm)\n\n\nGlasgow Green\n\nSaturday 4 October 2025 from 8:00am until 1:00pm\nSunday 5 October 2025 from 8:00am until 5:00pm\n(access 8:00am Wednesday 1 October 2025 – vacate 5:00pm Tuesday 7 October 2025)\n\n\nGlasgow Green Wasteground Compound – Parking only for Event & Supplier Vehicles\n\n(access 8:00am Wednesday 1 October 2025 – vacate 5:00pm Tuesday 7 October 2025)
URL:https://calton-community-council.scot/event/aj-bell-great-scottish-run
LOCATION:Glasgow Green\, Greendyke Street\, Glasgow\, G1 5DB
END:VEVENT
END:VCALENDAR