BEGIN:VCALENDAR
VERSION:2.0
PRODID:-//Calton Community Council - ECPv6.15.15//NONSGML v1.0//EN
CALSCALE:GREGORIAN
METHOD:PUBLISH
X-WR-CALNAME:Calton Community Council
X-ORIGINAL-URL:https://calton-community-council.scot
X-WR-CALDESC:Events for Calton Community Council
REFRESH-INTERVAL;VALUE=DURATION:PT1H
X-Robots-Tag:noindex
X-PUBLISHED-TTL:PT1H
BEGIN:VTIMEZONE
TZID:Europe/London
BEGIN:DAYLIGHT
TZOFFSETFROM:+0000
TZOFFSETTO:+0100
TZNAME:BST
DTSTART:20240331T010000
END:DAYLIGHT
BEGIN:STANDARD
TZOFFSETFROM:+0100
TZOFFSETTO:+0000
TZNAME:GMT
DTSTART:20241027T010000
END:STANDARD
BEGIN:DAYLIGHT
TZOFFSETFROM:+0000
TZOFFSETTO:+0100
TZNAME:BST
DTSTART:20250330T010000
END:DAYLIGHT
BEGIN:STANDARD
TZOFFSETFROM:+0100
TZOFFSETTO:+0000
TZNAME:GMT
DTSTART:20251026T010000
END:STANDARD
BEGIN:DAYLIGHT
TZOFFSETFROM:+0000
TZOFFSETTO:+0100
TZNAME:BST
DTSTART:20260329T010000
END:DAYLIGHT
BEGIN:STANDARD
TZOFFSETFROM:+0100
TZOFFSETTO:+0000
TZNAME:GMT
DTSTART:20261025T010000
END:STANDARD
BEGIN:DAYLIGHT
TZOFFSETFROM:+0000
TZOFFSETTO:+0100
TZNAME:BST
DTSTART:20270328T010000
END:DAYLIGHT
BEGIN:STANDARD
TZOFFSETFROM:+0100
TZOFFSETTO:+0000
TZNAME:GMT
DTSTART:20271031T010000
END:STANDARD
END:VTIMEZONE
BEGIN:VEVENT
DTSTART;TZID=Europe/London:20251104T080000
DTEND;TZID=Europe/London:20260118T220000
DTSTAMP:20260423T152211
CREATED:20251106T133221Z
LAST-MODIFIED:20251106T133221Z
UID:2822-1762243200-1768773600@calton-community-council.scot
SUMMARY:Glasgow’s Winter Wonderland Hub - Glasgow Green
DESCRIPTION:Permission has been granted for ‘Glasgow’s Winter Wonderland Hub‘ to operate on Glasgow Green from Friday 21 November 2025 until Sunday 4 January 2026 – Operating times 10:00am – 10:00pm (Closed Christmas Day). \nAccess to Glasgow Green from 8:00am on Tuesday 4 November 2025 and will vacate by 10:00pm on Sunday 18 January 2026. \nThey anticipate a maximum of 2\,500 people on site at any given time.
URL:https://calton-community-council.scot/event/glasgows-winter-wonderland-hub-glasgow-green
LOCATION:Glasgow Green\, Greendyke Street\, Glasgow\, G1 5DB
END:VEVENT
BEGIN:VEVENT
DTSTART;TZID=Europe/London:20251113T090000
DTEND;TZID=Europe/London:20251113T150000
DTSTAMP:20260423T152211
CREATED:20251106T133858Z
LAST-MODIFIED:20251106T134040Z
UID:2824-1763024400-1763046000@calton-community-council.scot
SUMMARY:Launch of Voi Public E-Bike Hire Scheme in Glasgow Green
DESCRIPTION:Permission has been granted for a Launch event for Voi Public E-Bike Hire Scheme in Glasgow Green at Doulton Fountain on Thursday 13 November 2025. \nAccess to the site will be from 9:00am and will vacate the site by 3:00pm with the event running from 10am to 2pm.  They anticipate 30 people will be in attendance at any given time.
URL:https://calton-community-council.scot/event/launch-of-voi-public-e-bike-hire-scheme-in-glasgow-green
LOCATION:Doulton Fountain\, G40 1AT
END:VEVENT
END:VCALENDAR