BEGIN:VCALENDAR
VERSION:2.0
PRODID:-//Calton Community Council - ECPv6.15.15//NONSGML v1.0//EN
CALSCALE:GREGORIAN
METHOD:PUBLISH
X-ORIGINAL-URL:https://calton-community-council.scot
X-WR-CALDESC:Events for Calton Community Council
REFRESH-INTERVAL;VALUE=DURATION:PT1H
X-Robots-Tag:noindex
X-PUBLISHED-TTL:PT1H
BEGIN:VTIMEZONE
TZID:Europe/London
BEGIN:DAYLIGHT
TZOFFSETFROM:+0000
TZOFFSETTO:+0100
TZNAME:BST
DTSTART:20240331T010000
END:DAYLIGHT
BEGIN:STANDARD
TZOFFSETFROM:+0100
TZOFFSETTO:+0000
TZNAME:GMT
DTSTART:20241027T010000
END:STANDARD
BEGIN:DAYLIGHT
TZOFFSETFROM:+0000
TZOFFSETTO:+0100
TZNAME:BST
DTSTART:20250330T010000
END:DAYLIGHT
BEGIN:STANDARD
TZOFFSETFROM:+0100
TZOFFSETTO:+0000
TZNAME:GMT
DTSTART:20251026T010000
END:STANDARD
BEGIN:DAYLIGHT
TZOFFSETFROM:+0000
TZOFFSETTO:+0100
TZNAME:BST
DTSTART:20260329T010000
END:DAYLIGHT
BEGIN:STANDARD
TZOFFSETFROM:+0100
TZOFFSETTO:+0000
TZNAME:GMT
DTSTART:20261025T010000
END:STANDARD
END:VTIMEZONE
BEGIN:VEVENT
DTSTART;VALUE=DATE:20250707
DTEND;VALUE=DATE:20250830
DTSTAMP:20260425T120828
CREATED:20250630T085514Z
LAST-MODIFIED:20250630T085514Z
UID:2467-1751846400-1756511999@calton-community-council.scot
SUMMARY:Scottish Water Roadworks London Road
DESCRIPTION:Scottish Water is planning to carry out repairs to a long-standing issue on the sewer network in Calton to help prevent flooding. \nWork will start outside 48 London Road on Monday 7 July and last approximately eight weeks. \nThere will be a section of the footpath closed during this time as well as no parking allowed in a section of London Road but pedestrian access will be maintained to all properties and businesses. You can find more information about this in the attached letter which has been issued locally. \nThere is no road closure scheduled during the work programme. \nThis has been a challenging technical exercise for our teams and we have liaised with Network Rail and the Scottish Fire and Rescue Service in order to deliver this work safely and efficiently. \nWe thank the community for their patience and understanding while we carry out these essential repairs. \nOur delivery partner George Leslie will be carrying out this work on our behalf.
URL:https://calton-community-council.scot/event/scottish-water-roadworks-london-road
LOCATION:48 London RdGlasgow G1 5NB\, 48 London Road\, G1 5NB
END:VEVENT
BEGIN:VEVENT
DTSTART;TZID=Europe/London:20250802T093000
DTEND;TZID=Europe/London:20250802T120000
DTSTAMP:20260425T120828
CREATED:20250610T113545Z
LAST-MODIFIED:20250610T113545Z
UID:2391-1754127000-1754136000@calton-community-council.scot
SUMMARY:ISKCON Scotland\, Festival of Chariots Procession on Saturday 2 August 2025
DESCRIPTION:The colourful Hindu festival procession will depart from Barrowland Park with access starting at 09:30am departing at 10:00am and finishing at Midday. \n 
URL:https://calton-community-council.scot/event/iskcon-scotland-festival-of-chariots-procession-on-saturday-2-august-2025
LOCATION:Barrowland Park\, Gallowgate\, Glasgow\, G1 5BG
END:VEVENT
BEGIN:VEVENT
DTSTART;TZID=Europe/London:20250806T070000
DTEND;TZID=Europe/London:20250821T180000
DTSTAMP:20260425T120828
CREATED:20250331T115951Z
LAST-MODIFIED:20250331T120306Z
UID:2163-1754463600-1755799200@calton-community-council.scot
SUMMARY:World Pipe Band Championships - Glasgow Green
DESCRIPTION:Glasgow will once again host the World Pipe Band Championships on Friday 15th and Saturday 16th August.  Preparations for the event will begin on the Green on August 6th and breakdown will be complete by August 21st.
URL:https://calton-community-council.scot/event/world-pipe-band-championships-glasgow-green
LOCATION:Glasgow Green\, Greendyke Street\, Glasgow\, G1 5DB
END:VEVENT
BEGIN:VEVENT
DTSTART;TZID=Europe/London:20250807T100000
DTEND;TZID=Europe/London:20250807T160000
DTSTAMP:20260425T120828
CREATED:20250729T083042Z
LAST-MODIFIED:20250729T083042Z
UID:2536-1754560800-1754582400@calton-community-council.scot
SUMMARY:Janine’s One Big Kilometre for Inclusion
DESCRIPTION:A Charity Fundraising cycle event will take place in Glasgow Green (East Side) on Thursday August 7th.  Access to the site will be from 10am with the event starting at 11am and finishing at 2pm with the site being cleared by 4pm.
URL:https://calton-community-council.scot/event/janines-one-big-kilometre-for-inclusion
END:VEVENT
BEGIN:VEVENT
DTSTART;TZID=Europe/London:20250809T110000
DTEND;TZID=Europe/London:20250809T140000
DTSTAMP:20260425T120828
CREATED:20250707T101005Z
LAST-MODIFIED:20250707T101005Z
UID:2491-1754737200-1754748000@calton-community-council.scot
SUMMARY:IRPWA Anti-Internment March and Rally - Barrowland Park
DESCRIPTION:IRPWA Anti-Internment March and Rally departing from Barrowland Park\, Saturday 9th August\, 11am to 2pm.
URL:https://calton-community-council.scot/event/irpwa-anti-internment-march-and-rally-barrowland-park
LOCATION:Barrowland Park\, Gallowgate\, Glasgow\, G1 5BG
END:VEVENT
BEGIN:VEVENT
DTSTART;TZID=Europe/London:20250814T190000
DTEND;TZID=Europe/London:20250814T203000
DTSTAMP:20260425T120828
CREATED:20250331T123414Z
LAST-MODIFIED:20250331T123722Z
UID:2179-1755198000-1755203400@calton-community-council.scot
SUMMARY:CCC Public Meeting
DESCRIPTION:Calton Community Council Public Meeting
URL:https://calton-community-council.scot/event/ccc-public-meeting-4
LOCATION:Calton Heritage and Learning Centre\, 423 London Road\, Glasgow\, G40 1AG
END:VEVENT
BEGIN:VEVENT
DTSTART;TZID=Europe/London:20250823T140000
DTEND;TZID=Europe/London:20250824T220000
DTSTAMP:20260425T120828
CREATED:20250630T084504Z
LAST-MODIFIED:20250827T094955Z
UID:2465-1755957600-1756072800@calton-community-council.scot
SUMMARY:In the City Festival of Music and Food
DESCRIPTION:NOTE: THIS EVENT HAS NOW BEEN CANCELLED \n“In The City” Music and Food Festival in Glasgow Green on Saturday 23 August and Sunday 24 August 2025. \nThe event will begin set up at Midday on Friday 22nd August and will vacate the Green by 5pm on Monday 25th August
URL:https://calton-community-council.scot/event/in-the-city-festival-of-music-and-food
LOCATION:Glasgow Green\, Greendyke Street\, Glasgow\, G1 5DB
END:VEVENT
BEGIN:VEVENT
DTSTART;TZID=Europe/London:20250831T070000
DTEND;TZID=Europe/London:20250831T180000
DTSTAMP:20260425T120828
CREATED:20250707T095856Z
LAST-MODIFIED:20250707T100810Z
UID:2489-1756623600-1756663200@calton-community-council.scot
SUMMARY:Kidney Research UK\, Glasgow Bridges Walk
DESCRIPTION:Kidney Research UK\, Glasgow Bridges Walk\, Sunday 31 August 2025. \nAccess to the site from 7am\, vacating by 6pm.  The walk will begin at 10am (meeting time with walk to start at 11am) and finish at 5pm.
URL:https://calton-community-council.scot/event/kidney-research-uk-glasgow-bridges-walk
LOCATION:Glasgow Green\, Greendyke Street\, Glasgow\, G1 5DB
END:VEVENT
END:VCALENDAR