BEGIN:VCALENDAR
VERSION:2.0
PRODID:-//Calton Community Council - ECPv6.15.15//NONSGML v1.0//EN
CALSCALE:GREGORIAN
METHOD:PUBLISH
X-ORIGINAL-URL:https://calton-community-council.scot
X-WR-CALDESC:Events for Calton Community Council
REFRESH-INTERVAL;VALUE=DURATION:PT1H
X-Robots-Tag:noindex
X-PUBLISHED-TTL:PT1H
BEGIN:VTIMEZONE
TZID:Europe/London
BEGIN:DAYLIGHT
TZOFFSETFROM:+0000
TZOFFSETTO:+0100
TZNAME:BST
DTSTART:20240331T010000
END:DAYLIGHT
BEGIN:STANDARD
TZOFFSETFROM:+0100
TZOFFSETTO:+0000
TZNAME:GMT
DTSTART:20241027T010000
END:STANDARD
BEGIN:DAYLIGHT
TZOFFSETFROM:+0000
TZOFFSETTO:+0100
TZNAME:BST
DTSTART:20250330T010000
END:DAYLIGHT
BEGIN:STANDARD
TZOFFSETFROM:+0100
TZOFFSETTO:+0000
TZNAME:GMT
DTSTART:20251026T010000
END:STANDARD
BEGIN:DAYLIGHT
TZOFFSETFROM:+0000
TZOFFSETTO:+0100
TZNAME:BST
DTSTART:20260329T010000
END:DAYLIGHT
BEGIN:STANDARD
TZOFFSETFROM:+0100
TZOFFSETTO:+0000
TZNAME:GMT
DTSTART:20261025T010000
END:STANDARD
END:VTIMEZONE
BEGIN:VEVENT
DTSTART;TZID=Europe/London:20250907T090000
DTEND;TZID=Europe/London:20250907T120000
DTSTAMP:20260423T110339
CREATED:20250707T090957Z
LAST-MODIFIED:20250707T090957Z
UID:2483-1757235600-1757246400@calton-community-council.scot
SUMMARY:Second Chance Project - Sponsored Walk
DESCRIPTION:Second Chance Project – Dassie Green. Access to the park will begin 9:00am and will vacate the site by 12:00 noon.
URL:https://calton-community-council.scot/event/second-chance-project-sponsored-walk
LOCATION:Dassie Green\, G1 5PS
END:VEVENT
BEGIN:VEVENT
DTSTART;TZID=Europe/London:20250911T190000
DTEND;TZID=Europe/London:20250911T203000
DTSTAMP:20260423T110339
CREATED:20250331T123452Z
LAST-MODIFIED:20250331T123704Z
UID:2181-1757617200-1757622600@calton-community-council.scot
SUMMARY:CCC Public Meeting
DESCRIPTION:Calton Community Council Public Meeting
URL:https://calton-community-council.scot/event/ccc-public-meeting-5
LOCATION:Calton Heritage and Learning Centre\, 423 London Road\, Glasgow\, G40 1AG
END:VEVENT
BEGIN:VEVENT
DTSTART;TZID=Europe/London:20250913T070000
DTEND;TZID=Europe/London:20250913T170000
DTSTAMP:20260423T110339
CREATED:20250723T113535Z
LAST-MODIFIED:20250723T113535Z
UID:2532-1757746800-1757782800@calton-community-council.scot
SUMMARY:MS Walk Glasgow
DESCRIPTION:The MS Walk\, Glasgow will pass start from Glasgow Green on Saturday 13th Septmber.  The event will start about 9am and finishing at 4pm.  The walk will also pass through Kelvingrove Park. \nAccess to the site will begin at 7am vacating the site by 5pm.
URL:https://calton-community-council.scot/event/ms-walk-glasgow
LOCATION:Glasgow Green\, Greendyke Street\, Glasgow\, G1 5DB
END:VEVENT
BEGIN:VEVENT
DTSTART;TZID=Europe/London:20250914T100000
DTEND;TZID=Europe/London:20250914T150000
DTSTAMP:20260423T110339
CREATED:20250828T123924Z
LAST-MODIFIED:20250828T124903Z
UID:2562-1757844000-1757862000@calton-community-council.scot
SUMMARY:BAaD Farmers Market
DESCRIPTION:There will be a farmers market at Barras Art and Design on Sunday 14th September 10am to 3pm.  Entry is ticketed\, but free.  Link below for more information and tickets.
URL:https://calton-community-council.scot/event/baad-farmers-market
LOCATION:BAaD\, 54 Calton Entry\, Glasgow\, G40 2SB
END:VEVENT
BEGIN:VEVENT
DTSTART;TZID=Europe/London:20250916T083000
DTEND;TZID=Europe/London:20250916T100000
DTSTAMP:20260423T110339
CREATED:20250915T091805Z
LAST-MODIFIED:20250915T091805Z
UID:2645-1758011400-1758016800@calton-community-council.scot
SUMMARY:Photo Opportunity McLennan Arch
DESCRIPTION:On Tuesday 16th September there will be a photo opportunity at McLennan Arch on Glasgow Green.  People will be on site from 08:30am to 10:00am.  20 people will be involved.
URL:https://calton-community-council.scot/event/photo-opportunity-mclennan-arch
LOCATION:McLennan Arch\, Saltmarket\, Glasgow\, G1 5JZ\, United Kingdom
END:VEVENT
BEGIN:VEVENT
DTSTART;TZID=Europe/London:20250919T090000
DTEND;TZID=Europe/London:20250921T235900
DTSTAMP:20260423T110339
CREATED:20250905T140816Z
LAST-MODIFIED:20250905T140816Z
UID:2613-1758272400-1758499140@calton-community-council.scot
SUMMARY:Freed Up - People Make Recovery Event
DESCRIPTION:As September is National Recovery month\, Freed Up CIC will be holding an event on Glasgow Green\, next to the People’s Palace pm Saturday 20th September from 11am to 5pm with access to the site from Friday 9th at 9am\, vacating by midnight Sunday 21st September. \n 
URL:https://calton-community-council.scot/event/freed-up-people-make-recovery-event
LOCATION:Glasgow Green\, Greendyke Street\, Glasgow\, G1 5DB
END:VEVENT
BEGIN:VEVENT
DTSTART;TZID=Europe/London:20250919T110000
DTEND;TZID=Europe/London:20250919T133000
DTSTAMP:20260423T110339
CREATED:20250603T162832Z
LAST-MODIFIED:20250603T162832Z
UID:2383-1758279600-1758288600@calton-community-council.scot
SUMMARY:Strathclyde Sport Run
DESCRIPTION:As part of Fresher’s Week Strathclyde University is hosting a 2k Relay sports run at Glasgow Green on Friday 19th September.  Starting at approximately midday and finishing at 1pm\, they will be on site from 11am to 130pm.  They anticipate 150 people will take part at any time.  They will be setting off and finishing at the West Boathouse on Glasgow Green.
URL:https://calton-community-council.scot/event/strathclyde-sport-run
LOCATION:West Boathouse\, G1 5QA\, G1 5QA
ORGANIZER;CN="Strathclyde University":MAILTO:https://onlineshop.strath.ac.uk/conferences-and-events/professional-services/strathclyde-sport
END:VEVENT
BEGIN:VEVENT
DTSTART;TZID=Europe/London:20250925T090000
DTEND;TZID=Europe/London:20250925T120000
DTSTAMP:20260423T110339
CREATED:20250828T125049Z
LAST-MODIFIED:20250828T125049Z
UID:2569-1758790800-1758801600@calton-community-council.scot
SUMMARY:Local Schools Fun Run in Glasgow Green
DESCRIPTION:Local Schools Fun Run in Glasgow Green on Thursday 25 September 2025 from 10am to 11 am.  Site access will be 9am to Midday.
URL:https://calton-community-council.scot/event/local-schools-fun-run-in-glasgow-green
LOCATION:Glasgow Green\, Greendyke Street\, Glasgow\, G1 5DB
END:VEVENT
END:VCALENDAR